BEGIN:VCALENDAR
VERSION:2.0
PRODID:-//hacksw/handcal//NONSGML v1.0//EN
BEGIN:VEVENT
SUMMARY:Entrainement U9
UID:d0da483a-6695-4f31-8084-cc9b92e0900b
DTSTART:20260304T150000Z
DTEND:20260304T160000Z
LOCATION:Salle Pierre de Coubertin 74 rue de la Tresoriere 16000 ANGOULEME
CATEGORIES:Entrainement
STATUS:
URL;VALUE=URI:https://www.angoulemebasketclub.fr/evenements/2026/03/04/entrainement-u9-2302247
END:VEVENT
END:VCALENDAR
